BEGIN:VCALENDAR
VERSION:2.0
PRODID:-//Ontmoetingskerk Breda - ECPv6.14.2//NONSGML v1.0//EN
CALSCALE:GREGORIAN
METHOD:PUBLISH
X-ORIGINAL-URL:https://ontmoetingskerk-breda.nl
X-WR-CALDESC:Evenementen voor Ontmoetingskerk Breda
REFRESH-INTERVAL;VALUE=DURATION:PT1H
X-Robots-Tag:noindex
X-PUBLISHED-TTL:PT1H
BEGIN:VTIMEZONE
TZID:UTC
BEGIN:STANDARD
TZOFFSETFROM:+0000
TZOFFSETTO:+0000
TZNAME:UTC
DTSTART:20250101T000000
END:STANDARD
END:VTIMEZONE
BEGIN:VEVENT
DTSTART;TZID=UTC:20251207T093000
DTEND;TZID=UTC:20251207T093000
DTSTAMP:20260419T150411
CREATED:20251128T103957Z
LAST-MODIFIED:20251128T112717Z
UID:5384-1765099800-1765099800@ontmoetingskerk-breda.nl
SUMMARY:Kerkdienst Br. Bas Keijzer
DESCRIPTION:
URL:https://ontmoetingskerk-breda.nl/event/kerkdienst-br-bas-keijzer-2/
LOCATION:Ontmoetingskerk\, Terheijdensstraat 9\, Breda\, 4811AW\, Netherlands
CATEGORIES:Kerkdienst,Themadienst
END:VEVENT
END:VCALENDAR