BEGIN:VCALENDAR
VERSION:2.0
PRODID:-//Ontmoetingskerk Breda - ECPv6.14.2//NONSGML v1.0//EN
CALSCALE:GREGORIAN
METHOD:PUBLISH
X-WR-CALNAME:Ontmoetingskerk Breda
X-ORIGINAL-URL:https://ontmoetingskerk-breda.nl
X-WR-CALDESC:Evenementen voor Ontmoetingskerk Breda
REFRESH-INTERVAL;VALUE=DURATION:PT1H
X-Robots-Tag:noindex
X-PUBLISHED-TTL:PT1H
BEGIN:VTIMEZONE
TZID:UTC
BEGIN:STANDARD
TZOFFSETFROM:+0000
TZOFFSETTO:+0000
TZNAME:UTC
DTSTART:20250101T000000
END:STANDARD
END:VTIMEZONE
BEGIN:VEVENT
DTSTART;TZID=UTC:20251130T093000
DTEND;TZID=UTC:20251130T093000
DTSTAMP:20260419T195112
CREATED:20251010T090020Z
LAST-MODIFIED:20251128T112541Z
UID:5379-1764495000-1764495000@ontmoetingskerk-breda.nl
SUMMARY:Kerkdienst Ds. M.K. Drost - Bunschoten-West
DESCRIPTION:
URL:https://ontmoetingskerk-breda.nl/event/kerkdienst-ds-m-k-drost-bunschoten-west/
LOCATION:Ontmoetingskerk\, Terheijdensstraat 9\, Breda\, 4811AW\, Netherlands
CATEGORIES:Avondmaal,Kerkdienst
END:VEVENT
END:VCALENDAR